BEGIN:VCALENDAR
VERSION:2.0
PRODID:-//IBSAL - ECPv6.15.20//NONSGML v1.0//EN
CALSCALE:GREGORIAN
METHOD:PUBLISH
X-WR-CALNAME:IBSAL
X-ORIGINAL-URL:https://ibsal.es
X-WR-CALDESC:Eventos para IBSAL
REFRESH-INTERVAL;VALUE=DURATION:PT1H
X-Robots-Tag:noindex
X-PUBLISHED-TTL:PT1H
BEGIN:VTIMEZONE
TZID:Europe/Helsinki
BEGIN:DAYLIGHT
TZOFFSETFROM:+0200
TZOFFSETTO:+0300
TZNAME:EEST
DTSTART:20250330T010000
END:DAYLIGHT
BEGIN:STANDARD
TZOFFSETFROM:+0300
TZOFFSETTO:+0200
TZNAME:EET
DTSTART:20251026T010000
END:STANDARD
BEGIN:DAYLIGHT
TZOFFSETFROM:+0200
TZOFFSETTO:+0300
TZNAME:EEST
DTSTART:20260329T010000
END:DAYLIGHT
BEGIN:STANDARD
TZOFFSETFROM:+0300
TZOFFSETTO:+0200
TZNAME:EET
DTSTART:20261025T010000
END:STANDARD
BEGIN:DAYLIGHT
TZOFFSETFROM:+0200
TZOFFSETTO:+0300
TZNAME:EEST
DTSTART:20270328T010000
END:DAYLIGHT
BEGIN:STANDARD
TZOFFSETFROM:+0300
TZOFFSETTO:+0200
TZNAME:EET
DTSTART:20271031T010000
END:STANDARD
END:VTIMEZONE
BEGIN:VEVENT
DTSTART;VALUE=DATE:20260602
DTEND;VALUE=DATE:20260604
DTSTAMP:20260420T185437
CREATED:20260416T083122Z
LAST-MODIFIED:20260420T125535Z
UID:21981-1780358400-1780531199@ibsal.es
SUMMARY:V Jornadas Científicas del IBSAL
DESCRIPTION:Las jornadas científicas del IBSAL son un encuentro anual entre el personal del instituto en el que compartir nuestro trabajo\, conocer el del resto y crear comunidad.\n\n\nAdemás\, este año 2026 es especial: el IBSAL cumple 15 años desde su creación. Y\, por ello\, extendemos la jornada anual en dos días.\n\nLas V Jornadas Científicas del IBSAL tendrán lugar el 2 y el 3 de junio de 2026:\n\n2 de junio\, de 10:00 a 13:30 h en el Edificio Dioscórides: Jornada Predoctoral del IBSAL\n3 de junio\, de 10:30 a 15:00 h en el Edificio Dioscórides: Jornada Científica del IBSAL\n3 de junio\, de 17:00 a 20:00 h en el Centro Internacional del Español: Jornada Ciudadana del IBSAL\n\n\nINSCRIPCIONES\nLa fecha límite de inscripción es el 26 de mayo de 2026. \n\nPROGRAMA\n\nJORNADA PREDOCTORAL DEL IBSAL \nMartes\, 2 de junio de 2026 \nSalón de actos. Edificio Dioscórides de la Universidad de Salamanca \n\n\n\n10:00 – 10:15\nBienvenida \nLuis García Ortiz – Director Científico del IBSAL\n\n\n10:15 – 10:45\nPonencia invitada: Las claves del éxito en la investigación\, trayectoria personal \nJerónimo Rodríguez Beltrán – Investigador Titular en el Instituto Ramón y Cajal y Premio Nacional de Investigación para Jóvenes Margarita Salas en Biología 2024.\n\n\n10:45 – 12:00\nMesa redonda: ¿Qué hay después del doctorado? \nModera: Pendiente de confirmar. \n\nJerónimo Rodríguez Beltrán – Investigador Titular en el Instituto Ramón y Cajal y Premio Nacional de Investigación para Jóvenes Margarita Salas en Biología 2024.\nBeatriz Martín Carro – Investigadora postdoctoral Sara Borrell (CARD – 01)\nCandelas Pérez del Villar Moro – Secretaria Científica del IBSAL\nRuben Deogracias Pastor – Investigador principal del grupo NEUR -11\nInvestigador predoctoral del IBSAL pendiente de confirmar\n\n\n\n\n12:00 – 12:30\nCafé y foto de grupo\n\n\n12:30 – 13:30\nTalleres \n\nAplicación de la IA en la investigación – María Angélica González Arrieta (Co-Investigadora Principal del grupo APSF-06)\nClaves para la divulgación científica efectiva – Diego Matos Agudo (Responsable de Comunicación del CAUSA)\nComunicación en congresos: presentación oral y póster – Cristina Lugones Sánchez (Coordinadora del Área de APSF)\nElaboración de un CV académico: CVN y criterios CoARA– Laura González Guerra (Responsable del Área de gestión científica y comunicación del IBSAL)\n\n\n\n\n\n  \nJORNADA CIENTÍFICA DEL IBSAL \nMiércoles\, 3 de junio de 2026 \nSalón de actos. Edificio Dioscórides de la Universidad de Salamanca \n\n\n\n10:30 – 11:00\nInauguración oficial\n\n\n11:00 – 11:30\nBienvenida de la dirección científica\n\n\n11:30 – 12:00\nEl PERTE para la Salud de Vanguardia e investigación en salud en el Instituto de Investigación Biomédica de Salamanca (IBSAL) \nModera: Raquel Yotti Álvarez – Comisionada del PERTE para la Salud de Vanguardia. Ministerio de Ciencia\, Innovación y Universidades. \n\nFondos PERTE\, objetivos y desarrollo en el Instituto de Salud Carlos III. Marina Pollán Santamaría – Directora General del ISCIII.\nFondos PERTE en el IBSAL. Luis García Ortiz – Director científico del IBSAL.\n\n\n\n\n12:30 – 13:15\nMesa redonda: Salud de Vanguardia en el IBSAL-Salamanca \nModera: Pendiente de confirmar \n\nEvaluación de una propuesta de implementación de la farmacogenética en el sistema nacional de salud para salud mental y cardiovascular (BioFram22). Pendiente de confirmar\nMedicina Personalizada (MedPer) en la detección precoz del deterioro cognitivo (DC) preclínico. Ángeles Almeida Parra\nUMBRELLA-SUMMA Legacy: Plataforma unificada para una mejor evaluación integral de los síndromes mielodisplásicos en España. María Díez Campelo\nRICORS TERAV y Consorcio CERTERA. Fermín Sánchez-Guijo Martín\nSolución para la estabilización y conservación de bioespecímenes a temperatura ambiente. Fernando Martín Lara (300K SOLUTIONS SL)\n\n\n\n\n13:15 – 13:30\nClausura\n\n\n13:30 – 15:00\nCóctel de networking\n\n\n\n  \nJORNADA CIUDADANA DEL IBSAL \nMiércoles\, 3 de junio de 2026 \nSalón de actos. Centro Internacional del Español \n\n\n\n17:00 – 17:15\nBienvenida \nLuis García Ortiz – Director Científico del IBSAL\n\n\n17:15 – 17:30\nSalud de Vanguardia: cómo la ciencia y la innovación mejoran nuestra salud \nRaquel Yotti Álvarez – Comisionada del PERTE para la Salud de Vanguardia. Ministerio de Ciencia\, Innovación y Universidades.\n\n\n17:30 – 18:30\nMesa redonda: El papel de la ciudadanía en la investigación \nModera: Luis García Ortiz – Director Científico del IBSAL \n\nPlataforma de Organizaciones de Pacientes (POP). Pendiente de confirmar\nPilar Gayoso Diz – Representante del Instituto de Salud Carlos III en CoARA\nMaría del Pilar Samaniego de Tiedra – Presidenta de la Comisión Ciudadana del IBSAL\n\n\n\n\n18:30 – 19:00\nCafé y Stands de las Asociaciones integrantes de la Comisión Ciudadana del IBSAL\n\n\n19:00 – 20:00\nLa investigación del IBSAL a través de las asociaciones ciudadanas \nPresenta: Laura González Guerra – Responsable del Área de gestión científica y comunicación del IBSAL \n\nDesvelando misterios: Conversaciones con expertos – Fundación Fundaneed\nCharlas Café con-ciencia – Asociación AFIBROSAL\nSalud diversa y responsable – Asociación LGTB+ Iguales\n¡Vamos a respirar! Difusión de la fisioterapia respiratoria como tratamiento de la parálisis cerebral – Asociación ASPACE\nMiradas en acción: Visibilizando las Patologías Visuales a través de la experiencia – Asociación Retina Salamanca\nInvestigación en daño cerebral adquirido: resultados para todos – Asociación ASDACE
URL:https://ibsal.es/evento/v-jornadas-cientificas-del-ibsal/
CATEGORIES:Evento
ATTACH;FMTTYPE=image/png:https://ibsal.es/wp-content/uploads/2026/04/Jornada-cientifica-a2-copia-1.png
END:VEVENT
END:VCALENDAR