BEGIN:VCALENDAR
VERSION:2.0
PRODID:-//IBSAL - ECPv6.15.20//NONSGML v1.0//EN
CALSCALE:GREGORIAN
METHOD:PUBLISH
X-WR-CALNAME:IBSAL
X-ORIGINAL-URL:https://ibsal.es
X-WR-CALDESC:Eventos para IBSAL
REFRESH-INTERVAL;VALUE=DURATION:PT1H
X-Robots-Tag:noindex
X-PUBLISHED-TTL:PT1H
BEGIN:VTIMEZONE
TZID:UTC
BEGIN:STANDARD
TZOFFSETFROM:+0000
TZOFFSETTO:+0000
TZNAME:UTC
DTSTART:20240101T000000
END:STANDARD
END:VTIMEZONE
BEGIN:VEVENT
DTSTART;TZID=UTC:20250519T160000
DTEND;TZID=UTC:20250526T200000
DTSTAMP:20260422T114659
CREATED:20250502T082041Z
LAST-MODIFIED:20250505T062337Z
UID:10547-1747670400-1748289600@ibsal.es
SUMMARY:Residuos Hospitalarios
DESCRIPTION:Residuos Hospitalarios \nObjetivo: \nConseguir una gestión adecuada de los residuos sanitarios: segregación y reciclaje. \nUso eficiente de los recursos. \nDisminuir el impacto negativo de los residuos en el medio ambiente. \n  \nObjetivos específicos: \nConcienciar de la importancia de una segregación adecuada de los residuos para el medio ambiente. \nFomentar actuaciones dirigidas a mejorar la segregación de residuos. \nPromover un reciclaje adecuado de los residuos del grupo I \n  \nFecha: \nDel 19 al 26 de mayo de 2025 \n  \nLugar: \nSala De Formación/Calidad FP0427 \nSala Reuniones Pediatría FP3404 \nSalón De Actos DP0518 \n  \nPonentes: \n\nDña. Celedonia Curto Hernández. Jefa General Asuntos Generales\nDña. Mª del Mar Jiménez Rodríguez. L.E Medicina preventiva\n\n  \nPrograma: \n\n\n\nFecha y horario de impartición\nLugar\nContenido\nDocente\n\n\n 19-05-2025 \n16:00 -19:30\nSala De Formación/Calidad FP0427\nPresentación del curso Evaluación inicial. Tipos de residuos hospitalarios Segregación residuos sanitarios: Grupos Iy II\nDña. Celedonia Curto Hernández.\n\n\n  20-05-2025 \n16:00- 19:30\nSala Reuniones Pediatría FP3404 \n \nSegregación residuos sanitario grupo III y IV tratamiento extrahospilario de residuos sanitarios.\nDña. Mª del Mar Jiménez Rodríguez.\n\n\n  26-05-2025 \n16:00- 17:30\nSalón De Actos DP0518 \n \nInformación de tratamientos de residuos grupo I y II y valorización de los residuos\nDña. Celedonia Curto Hernández.\n\n\n  26-05-2025 \n17:30- 19:00\nSalón De Actos DP0518 \n \nCaso práctico: gestión de residuos en una unidad del hospital sistema de notificación de incidentes: \nSISNOT \nEvaluación final\nDña. Mª del Mar Jiménez Rodríguez.\n\n\n\nInscripción:  \nINSCRIPCIÓN: \n(NOTA: El personal del HUS no adscrito al IBSAL es recomendable que se inscriba a través de la aplicación de formación GESTION@) \nEl plazo de preinscripción es hasta el jueves día 15 de mayo de 2025 individualmente\, a través de nuestra página web: \nPara el aprovechamiento del curso y recibir el certificado pertinente es preciso realizar el curso en un 80% del total de la programación. \nSe recuerda que únicamente se podrá considerar inscrito en el curso cuando reciban el email de confirmación\, ya que hay un límite de 3 plazas. \n  \nMétodo de selección: \nLa inscripción en el curso se ejecutará por riguroso orden de inscripción (en los cursos con mucha demanda tienen preferencia el adscrito personal al IBSAL)\, según acuerdo de la Comisión de Formación del IBSAL. \n  \n 
URL:https://ibsal.es/evento/residuos-hospitalarios/
LOCATION:Hospital Clínico. Complejo Asistencial Universitario de Salamanca\, Pº de San Vicente\, 182\, Salamanca\, Salamanca\, 37007\, Spain
CATEGORIES:Otro Curso
END:VEVENT
END:VCALENDAR